BEGIN:VCALENDAR
VERSION:2.0
PRODID:-//Your Quad Counties - ECPv6.15.17.1//NONSGML v1.0//EN
CALSCALE:GREGORIAN
METHOD:PUBLISH
X-WR-CALNAME:Your Quad Counties
X-ORIGINAL-URL:https://yourquadcounties.ca
X-WR-CALDESC:Events for Your Quad Counties
REFRESH-INTERVAL;VALUE=DURATION:PT1H
X-Robots-Tag:noindex
X-PUBLISHED-TTL:PT1H
BEGIN:VTIMEZONE
TZID:America/Halifax
BEGIN:DAYLIGHT
TZOFFSETFROM:-0400
TZOFFSETTO:-0300
TZNAME:ADT
DTSTART:20250309T060000
END:DAYLIGHT
BEGIN:STANDARD
TZOFFSETFROM:-0300
TZOFFSETTO:-0400
TZNAME:AST
DTSTART:20251102T050000
END:STANDARD
BEGIN:DAYLIGHT
TZOFFSETFROM:-0400
TZOFFSETTO:-0300
TZNAME:ADT
DTSTART:20260308T060000
END:DAYLIGHT
BEGIN:STANDARD
TZOFFSETFROM:-0300
TZOFFSETTO:-0400
TZNAME:AST
DTSTART:20261101T050000
END:STANDARD
BEGIN:DAYLIGHT
TZOFFSETFROM:-0400
TZOFFSETTO:-0300
TZNAME:ADT
DTSTART:20270314T060000
END:DAYLIGHT
BEGIN:STANDARD
TZOFFSETFROM:-0300
TZOFFSETTO:-0400
TZNAME:AST
DTSTART:20271107T050000
END:STANDARD
END:VTIMEZONE
BEGIN:VEVENT
DTSTART;TZID=America/Halifax:20260422T130000
DTEND;TZID=America/Halifax:20260423T190000
DTSTAMP:20260423T133000
CREATED:20260325T152108Z
LAST-MODIFIED:20260414T122302Z
UID:172796-1776862800-1776970800@yourquadcounties.ca
SUMMARY:Canadian Blood Services donation clinic Antigonish
DESCRIPTION:
URL:https://yourquadcounties.ca/event/canadian-blood-services-donation-clinic/
LOCATION:St. Ninian Cathedral Parish\, Antigonish
ATTACH;FMTTYPE=image/jpeg:https://yourquadcounties.ca/wp-content/uploads/2026/03/Blood-Donations-ClinicsSt.-Ninian-April-2026.jpg
END:VEVENT
BEGIN:VEVENT
DTSTART;TZID=America/Halifax:20260423T080000
DTEND;TZID=America/Halifax:20260516T170000
DTSTAMP:20260423T133000
CREATED:20260423T123059Z
LAST-MODIFIED:20260423T123059Z
UID:174382-1776931200-1778950800@yourquadcounties.ca
SUMMARY:Strait Area Sting Registration
DESCRIPTION:Registration for the upcoming baseball season is now open\, Click the link and sign up your ball player. \nhttps://docs.google.com/forms/d/e/1FAIpQLSdZkZVU0IBVe3_ns22lyqBt1piLYVd0zCEEshZOUC9Rik2jOQ/viewform?fbclid=IwY2xjawRW6rdleHRuA2FlbQIxMABicmlkETFTOFQxcVZiYXN3NVlMWUhpc3J0YwZhcHBfaWQQMjIyMDM5MTc4ODIwMDg5MgABHtJHfF7Qwnxz2AS7SqoLpnmo9EOTGWcDlFzqOe7Icst9zyFu1ulOZAjxnOx0_aem_QPQP9Sm_RSy3_Z7LECx5OA
URL:https://yourquadcounties.ca/event/strait-area-sting-registration/
LOCATION:NS
ATTACH;FMTTYPE=image/png:https://yourquadcounties.ca/wp-content/uploads/2026/04/Syrait-ARea-Sting-Baseball.png
END:VEVENT
BEGIN:VEVENT
DTSTART;TZID=America/Halifax:20260423T150000
DTEND;TZID=America/Halifax:20260423T200000
DTSTAMP:20260423T133000
CREATED:20260407T130948Z
LAST-MODIFIED:20260407T130948Z
UID:173609-1776956400-1776974400@yourquadcounties.ca
SUMMARY:Let’s Celebrate Earth Day Together!
DESCRIPTION:On April 23\, La Picasse invites you to a special Jeudis Art event filled with eco‑friendly activities: litter cleanup\, creative workshops\, educational booths\, and a hot‑dog supper! \n Family‑friendly event\n Location: La Picasse\n Cost: $5 children | $10 adults\n Registration required\n 902‑226‑0149 |  programmation@lapicasse.ca\nPayment in advance!\nCash or e-transfer at administration@lapicasse.ca \nLe 23 avril\, La Picasse vous invite à un Jeudis Art spécial rempli d’activités écoresponsables : ramassage de déchets\, ateliers créatifs\, kiosques éducatifs et souper hot-dog! \n Activité pour toute la famille\n La Picasse\n 5 $ enfants | 10 $ adultes\n Inscription obligatoire\n 902-226-0149 |  programmation@lapicasse.ca\nPaiements à l’avance SVP\ncomptant ou par virement à administration@lapicasse.ca
URL:https://yourquadcounties.ca/event/lets-celebrate-earth-day-together/
LOCATION:La Picasse\, 3435 NS-206\, Petit-de-Grat\, NS\, Canada
ATTACH;FMTTYPE=image/png:https://yourquadcounties.ca/wp-content/uploads/2026/04/Earth-Day-in-PDG.png
END:VEVENT
END:VCALENDAR