BEGIN:VCALENDAR
VERSION:2.0
PRODID:-//Your Quad Counties - ECPv6.15.17.1//NONSGML v1.0//EN
CALSCALE:GREGORIAN
METHOD:PUBLISH
X-WR-CALNAME:Your Quad Counties
X-ORIGINAL-URL:https://yourquadcounties.ca
X-WR-CALDESC:Events for Your Quad Counties
REFRESH-INTERVAL;VALUE=DURATION:PT1H
X-Robots-Tag:noindex
X-PUBLISHED-TTL:PT1H
BEGIN:VTIMEZONE
TZID:America/Halifax
BEGIN:DAYLIGHT
TZOFFSETFROM:-0400
TZOFFSETTO:-0300
TZNAME:ADT
DTSTART:20250309T060000
END:DAYLIGHT
BEGIN:STANDARD
TZOFFSETFROM:-0300
TZOFFSETTO:-0400
TZNAME:AST
DTSTART:20251102T050000
END:STANDARD
BEGIN:DAYLIGHT
TZOFFSETFROM:-0400
TZOFFSETTO:-0300
TZNAME:ADT
DTSTART:20260308T060000
END:DAYLIGHT
BEGIN:STANDARD
TZOFFSETFROM:-0300
TZOFFSETTO:-0400
TZNAME:AST
DTSTART:20261101T050000
END:STANDARD
BEGIN:DAYLIGHT
TZOFFSETFROM:-0400
TZOFFSETTO:-0300
TZNAME:ADT
DTSTART:20270314T060000
END:DAYLIGHT
BEGIN:STANDARD
TZOFFSETFROM:-0300
TZOFFSETTO:-0400
TZNAME:AST
DTSTART:20271107T050000
END:STANDARD
END:VTIMEZONE
BEGIN:VEVENT
DTSTART;TZID=America/Halifax:20260426T090000
DTEND;TZID=America/Halifax:20260426T130000
DTSTAMP:20260423T184412
CREATED:20260423T142457Z
LAST-MODIFIED:20260423T142457Z
UID:174398-1777194000-1777208400@yourquadcounties.ca
SUMMARY:Yard Sale
DESCRIPTION:Indoor Yard Sale\, home decor\, kitchen items\, clothing\, tv’s\, Christmas decor Everything is priced to sell
URL:https://yourquadcounties.ca/event/yard-sale-2/
LOCATION:22 Silverbirch Drive\, 22 Silverbirch Drive\, Lower South River\, NS\, Canada
CATEGORIES:YARDSALES
END:VEVENT
END:VCALENDAR