BEGIN:VCALENDAR
VERSION:2.0
PRODID:-//Your Quad Counties - ECPv6.15.17.1//NONSGML v1.0//EN
CALSCALE:GREGORIAN
METHOD:PUBLISH
X-WR-CALNAME:Your Quad Counties
X-ORIGINAL-URL:https://yourquadcounties.ca
X-WR-CALDESC:Events for Your Quad Counties
REFRESH-INTERVAL;VALUE=DURATION:PT1H
X-Robots-Tag:noindex
X-PUBLISHED-TTL:PT1H
BEGIN:VTIMEZONE
TZID:America/Detroit
BEGIN:DAYLIGHT
TZOFFSETFROM:-0500
TZOFFSETTO:-0400
TZNAME:EDT
DTSTART:20250309T070000
END:DAYLIGHT
BEGIN:STANDARD
TZOFFSETFROM:-0400
TZOFFSETTO:-0500
TZNAME:EST
DTSTART:20251102T060000
END:STANDARD
BEGIN:DAYLIGHT
TZOFFSETFROM:-0500
TZOFFSETTO:-0400
TZNAME:EDT
DTSTART:20260308T070000
END:DAYLIGHT
BEGIN:STANDARD
TZOFFSETFROM:-0400
TZOFFSETTO:-0500
TZNAME:EST
DTSTART:20261101T060000
END:STANDARD
BEGIN:DAYLIGHT
TZOFFSETFROM:-0500
TZOFFSETTO:-0400
TZNAME:EDT
DTSTART:20270314T070000
END:DAYLIGHT
BEGIN:STANDARD
TZOFFSETFROM:-0400
TZOFFSETTO:-0500
TZNAME:EST
DTSTART:20271107T060000
END:STANDARD
END:VTIMEZONE
BEGIN:VTIMEZONE
TZID:America/Halifax
BEGIN:DAYLIGHT
TZOFFSETFROM:-0400
TZOFFSETTO:-0300
TZNAME:ADT
DTSTART:20250309T060000
END:DAYLIGHT
BEGIN:STANDARD
TZOFFSETFROM:-0300
TZOFFSETTO:-0400
TZNAME:AST
DTSTART:20251102T050000
END:STANDARD
BEGIN:DAYLIGHT
TZOFFSETFROM:-0400
TZOFFSETTO:-0300
TZNAME:ADT
DTSTART:20260308T060000
END:DAYLIGHT
BEGIN:STANDARD
TZOFFSETFROM:-0300
TZOFFSETTO:-0400
TZNAME:AST
DTSTART:20261101T050000
END:STANDARD
BEGIN:DAYLIGHT
TZOFFSETFROM:-0400
TZOFFSETTO:-0300
TZNAME:ADT
DTSTART:20270314T060000
END:DAYLIGHT
BEGIN:STANDARD
TZOFFSETFROM:-0300
TZOFFSETTO:-0400
TZNAME:AST
DTSTART:20271107T050000
END:STANDARD
END:VTIMEZONE
BEGIN:VEVENT
DTSTART;TZID=America/Detroit:20260419T130000
DTEND;TZID=America/Detroit:20260419T180000
DTSTAMP:20260423T132526
CREATED:20260318T151333Z
LAST-MODIFIED:20260414T124224Z
UID:169807-1776603600-1776621600@yourquadcounties.ca
SUMMARY:Crib Tournament
DESCRIPTION:
URL:https://yourquadcounties.ca/event/crib-tournament/
LOCATION:West Bay Road Fire Department\, Cenotaph Rd\, West Bay Rd\, NS\, Canada
ATTACH;FMTTYPE=image/jpeg:https://yourquadcounties.ca/wp-content/uploads/2026/03/West-Bay-Crib.jpg
END:VEVENT
BEGIN:VEVENT
DTSTART;TZID=America/Halifax:20260420T130000
DTEND;TZID=America/Halifax:20260421T190000
DTSTAMP:20260423T132526
CREATED:20260325T152407Z
LAST-MODIFIED:20260325T152931Z
UID:172805-1776690000-1776798000@yourquadcounties.ca
SUMMARY:Canadian Blood Services donation clinic Port Hawkesbury
DESCRIPTION:
URL:https://yourquadcounties.ca/event/canadian-blood-services-donation-clinic-2/
LOCATION:Port Hawkesbury Civic Centre\, 606 Reeves Street\, Port Hawkesbury
END:VEVENT
BEGIN:VEVENT
DTSTART;TZID=America/Halifax:20260420T190000
DTEND;TZID=America/Halifax:20260420T200000
DTSTAMP:20260423T132526
CREATED:20260331T120821Z
LAST-MODIFIED:20260331T120821Z
UID:173187-1776711600-1776715200@yourquadcounties.ca
SUMMARY:How to Care for and Sharpen Garden Tools
DESCRIPTION:
URL:https://yourquadcounties.ca/event/how-to-care-for-and-sharpen-garden-tools/
LOCATION:John Paul Centre.
ATTACH;FMTTYPE=image/jpeg:https://yourquadcounties.ca/wp-content/uploads/2026/03/Garden-Tool-Workshop.jpg
END:VEVENT
BEGIN:VEVENT
DTSTART;TZID=America/Halifax:20260422T130000
DTEND;TZID=America/Halifax:20260423T190000
DTSTAMP:20260423T132526
CREATED:20260325T152108Z
LAST-MODIFIED:20260414T122302Z
UID:172796-1776862800-1776970800@yourquadcounties.ca
SUMMARY:Canadian Blood Services donation clinic Antigonish
DESCRIPTION:
URL:https://yourquadcounties.ca/event/canadian-blood-services-donation-clinic/
LOCATION:St. Ninian Cathedral Parish\, Antigonish
ATTACH;FMTTYPE=image/jpeg:https://yourquadcounties.ca/wp-content/uploads/2026/03/Blood-Donations-ClinicsSt.-Ninian-April-2026.jpg
END:VEVENT
BEGIN:VEVENT
DTSTART;TZID=America/Halifax:20260423T080000
DTEND;TZID=America/Halifax:20260516T170000
DTSTAMP:20260423T132526
CREATED:20260423T123059Z
LAST-MODIFIED:20260423T123059Z
UID:174382-1776931200-1778950800@yourquadcounties.ca
SUMMARY:Strait Area Sting Registration
DESCRIPTION:Registration for the upcoming baseball season is now open\, Click the link and sign up your ball player. \nhttps://docs.google.com/forms/d/e/1FAIpQLSdZkZVU0IBVe3_ns22lyqBt1piLYVd0zCEEshZOUC9Rik2jOQ/viewform?fbclid=IwY2xjawRW6rdleHRuA2FlbQIxMABicmlkETFTOFQxcVZiYXN3NVlMWUhpc3J0YwZhcHBfaWQQMjIyMDM5MTc4ODIwMDg5MgABHtJHfF7Qwnxz2AS7SqoLpnmo9EOTGWcDlFzqOe7Icst9zyFu1ulOZAjxnOx0_aem_QPQP9Sm_RSy3_Z7LECx5OA
URL:https://yourquadcounties.ca/event/strait-area-sting-registration/
ATTACH;FMTTYPE=image/png:https://yourquadcounties.ca/wp-content/uploads/2026/04/Syrait-ARea-Sting-Baseball.png
END:VEVENT
BEGIN:VEVENT
DTSTART;TZID=America/Halifax:20260423T150000
DTEND;TZID=America/Halifax:20260423T200000
DTSTAMP:20260423T132526
CREATED:20260407T130948Z
LAST-MODIFIED:20260407T130948Z
UID:173609-1776956400-1776974400@yourquadcounties.ca
SUMMARY:Let’s Celebrate Earth Day Together!
DESCRIPTION:On April 23\, La Picasse invites you to a special Jeudis Art event filled with eco‑friendly activities: litter cleanup\, creative workshops\, educational booths\, and a hot‑dog supper! \n Family‑friendly event\n Location: La Picasse\n Cost: $5 children | $10 adults\n Registration required\n 902‑226‑0149 |  programmation@lapicasse.ca\nPayment in advance!\nCash or e-transfer at administration@lapicasse.ca \nLe 23 avril\, La Picasse vous invite à un Jeudis Art spécial rempli d’activités écoresponsables : ramassage de déchets\, ateliers créatifs\, kiosques éducatifs et souper hot-dog! \n Activité pour toute la famille\n La Picasse\n 5 $ enfants | 10 $ adultes\n Inscription obligatoire\n 902-226-0149 |  programmation@lapicasse.ca\nPaiements à l’avance SVP\ncomptant ou par virement à administration@lapicasse.ca
URL:https://yourquadcounties.ca/event/lets-celebrate-earth-day-together/
LOCATION:La Picasse\, 3435 NS-206\, Petit-de-Grat\, NS\, Canada
ATTACH;FMTTYPE=image/png:https://yourquadcounties.ca/wp-content/uploads/2026/04/Earth-Day-in-PDG.png
END:VEVENT
BEGIN:VEVENT
DTSTART;TZID=America/Halifax:20260424T190000
DTEND;TZID=America/Halifax:20260424T220000
DTSTAMP:20260423T132526
CREATED:20260408T123955Z
LAST-MODIFIED:20260408T123955Z
UID:173659-1777057200-1777068000@yourquadcounties.ca
SUMMARY:Gallery of Voices
DESCRIPTION:Antigonish Choral Society brings you a night of choral music and artwork.\nFeaturing:\nAntigonish Choral Ensemble with Janice Alcorn\, Artistic Director Amy Hendricks\, piano & strings Adhoctet Rebecca Wild & the Rose Trio and more \nDuring intermission audience members will have an opportunity to view local artists showcasing & selling some of their work. \nStFX University – Immaculata Hall\nFriday April 24th at 7pm\nAdmission by Donation at the door
URL:https://yourquadcounties.ca/event/gallery-of-voices/
ATTACH;FMTTYPE=image/png:https://yourquadcounties.ca/wp-content/uploads/2026/04/Gallery-of-Voices.png
END:VEVENT
BEGIN:VEVENT
DTSTART;VALUE=DATE:20260425
DTEND;VALUE=DATE:20260504
DTSTAMP:20260423T132526
CREATED:20260408T174741Z
LAST-MODIFIED:20260408T174842Z
UID:173732-1777075200-1777852799@yourquadcounties.ca
SUMMARY:L’Arche Antigonish 5th Annual Online Silent Auction
DESCRIPTION:Get ready to bid\, win\, and give back!\n\n\nThe L’Arche Antigonish 5th Annual Online Silent Auction runs from April 25 to May 3 and is packed with amazing prizes you won’t want to miss.\n\nEvery bid helps support community vehicles\, accessible transportation\, extra food for the L’Arche community\, day programs\, unforgettable community vacations\, and their youth summer camp.\n\nThe 32Auctions link will be shared on the L’Arche social media channels starting April 25—so follow along and get ready to bid!\n\nBid big\, support local and help build an inclusive community.
URL:https://yourquadcounties.ca/event/larche-antigonish-5th-annual-online-silent-auction/
END:VEVENT
BEGIN:VEVENT
DTSTART;TZID=America/Halifax:20260425T080000
DTEND;TZID=America/Halifax:20260425T150000
DTSTAMP:20260423T132526
CREATED:20260422T121838Z
LAST-MODIFIED:20260423T141629Z
UID:174322-1777104000-1777129200@yourquadcounties.ca
SUMMARY:Yard Sale
DESCRIPTION:Getting ready to move sale: Contractor’s tools & supplies; Horse Saddles & tack supplies; household goods; garden tools; clothing & books.
URL:https://yourquadcounties.ca/event/yard-sale/
LOCATION:1102 Cape Jack Rd.\, Havre Boucher\, 1102 Cape Jack Rd\, Havre Boucher
CATEGORIES:YARDSALES
END:VEVENT
BEGIN:VEVENT
DTSTART;TZID=America/Detroit:20260425T083000
DTEND;TZID=America/Detroit:20260425T233000
DTSTAMP:20260423T132526
CREATED:20260318T150342Z
LAST-MODIFIED:20260409T133041Z
UID:169783-1777105800-1777159800@yourquadcounties.ca
SUMMARY:Breakfast - Evergreen Seniors Club 8:30-11:30
DESCRIPTION:Bacon and Eggs\, Pancakes and Sausage Toast Tea Coffee Juice. \nAdults $10.00\, Children 10yrs and under $5.00
URL:https://yourquadcounties.ca/event/breakfast-evergreen-seniors-club-830-1130/
LOCATION:Evergreen Seniors Club\, Port Hawkesbury\, NS\, Canada
ATTACH;FMTTYPE=image/jpeg:https://yourquadcounties.ca/wp-content/uploads/2026/03/April-Breakfast-EverGreen-Club-scaled.jpg
END:VEVENT
BEGIN:VEVENT
DTSTART;TZID=America/Detroit:20260425T130000
DTEND;TZID=America/Detroit:20260425T140000
DTSTAMP:20260423T132526
CREATED:20260324T164300Z
LAST-MODIFIED:20260324T164341Z
UID:172564-1777122000-1777125600@yourquadcounties.ca
SUMMARY:Art Makes Kids SmART presents: Artful Afternoons
DESCRIPTION:🎨 Art Makes Kids SmART presents Artful Afternoons A creative space for autistic children and their families Looking for a fun\, welcoming space where kids can explore their creativity? \nArtful Afternoons\, a monthly drop-in program with engaging art activities designed to inspire and include every child. \n📅 Dates: Feb 28\, Mar 28\, Apr 25\, May 23\, Jun 13\, 2026 \n⏰ Time: 1–2 PM \n📍 Location: Little Red School House\, Boylston Community Centre \n💵 Cost: $10 per session \n🍎 Snacks provided \nRegister at artworkseast.ca/events \nHosted by: Kathy Gosbee \nSupported by: Autism NS & Recreation Community Development Grant (NS Dept. of Community\, Culture\, Tourism & Heritage)
URL:https://yourquadcounties.ca/event/art-makes-kids-smart-presents-artful-afternoons-2/
LOCATION:Boylston Community Centre\, 11728 Highway 16\, Boylston\, NS\, Canada
ATTACH;FMTTYPE=image/jpeg:https://yourquadcounties.ca/wp-content/uploads/2026/03/Art-Makes-Kids-SmART-presents-Artful-Afternoons.jpg
END:VEVENT
BEGIN:VEVENT
DTSTART;TZID=America/Halifax:20260425T173000
DTEND;TZID=America/Halifax:20260425T200000
DTSTAMP:20260423T132526
CREATED:20260402T143336Z
LAST-MODIFIED:20260402T143336Z
UID:173441-1777138200-1777147200@yourquadcounties.ca
SUMMARY:Pinoy Fiesta: A Celebration of Filipino Food and Culture
DESCRIPTION:L’Arche Cape Breton welcomes assistants from around the world. Their diversity is our superpower. At our Pinoy Fiesta\, They will celebrate Filipino food and culture. They’ll have some great food and drink\, learn about the country\, sing some karaoke (it’s your moment!) and more. Get ready to be part of something extraordinary. \nA note on food allergies: the meals prepared for the Pinoy Fest will likely contain common allergens such as gluten (from soy sauce)\, shellfish\, dairy and more. Also most dishes contain meat and seafood. Please bear this in mind. \nFunds raised from Pinoy Fiesta will support our Day Programs for people with intellectual disabilities. Together\, we can create a brighter\, more compassionate world for all.
URL:https://yourquadcounties.ca/event/pinoy-fiesta-a-celebration-of-filipino-food-and-culture/
LOCATION:L’Arche Gathering Place\, NS\, Canada
ATTACH;FMTTYPE=image/png:https://yourquadcounties.ca/wp-content/uploads/2026/04/Pinoy-fest.png
END:VEVENT
BEGIN:VEVENT
DTSTART;TZID=America/Halifax:20260425T180000
DTEND;TZID=America/Halifax:20260425T233000
DTSTAMP:20260423T132526
CREATED:20260423T125341Z
LAST-MODIFIED:20260423T125341Z
UID:174389-1777140000-1777159800@yourquadcounties.ca
SUMMARY:Erinville Beanbag Fundraiser for St.Thomas Church
DESCRIPTION:Beanbag tournament fundraiser for St.Thomas Church at the Erinville fire hall. $10 per person to play\, must be 19 years and older. Don’t need to bring a partner\, partners are selected there. Registration from 6pm-6:30pm. Game starts at 6:30pm \n 
URL:https://yourquadcounties.ca/event/erinville-beanbag-fundraiser-for-st-thomas-church/
LOCATION:Erinville Fire Hall\, NS\, Canada
ATTACH;FMTTYPE=image/png:https://yourquadcounties.ca/wp-content/uploads/2026/04/erinville-beanbag-tourney.png
END:VEVENT
BEGIN:VEVENT
DTSTART;TZID=America/Halifax:20260425T203000
DTEND;TZID=America/Halifax:20260425T233000
DTSTAMP:20260423T132526
CREATED:20260410T161901Z
LAST-MODIFIED:20260410T161901Z
UID:173857-1777149000-1777159800@yourquadcounties.ca
SUMMARY:Live Music
DESCRIPTION:The Mini Trail Community Centre is hosting an Adult Dance featuring Our Father’s Fools on Saturday\, April 25th at 8:30pm. Cash Bar Services. Admission $15.00 in advance\, $20.00 at the door
URL:https://yourquadcounties.ca/event/live-music/
ATTACH;FMTTYPE=image/png:https://yourquadcounties.ca/wp-content/uploads/2026/04/Mini-Trail-Community-Centre-our-fathers-fools.png
END:VEVENT
BEGIN:VEVENT
DTSTART;TZID=America/Halifax:20260426T090000
DTEND;TZID=America/Halifax:20260426T130000
DTSTAMP:20260423T132526
CREATED:20260423T142457Z
LAST-MODIFIED:20260423T142457Z
UID:174398-1777194000-1777208400@yourquadcounties.ca
SUMMARY:Yard Sale
DESCRIPTION:Indoor Yard Sale\, home decor\, kitchen items\, clothing\, tv’s\, Christmas decor Everything is priced to sell
URL:https://yourquadcounties.ca/event/yard-sale-2/
LOCATION:22 Silverbirch Drive\, 22 Silverbirch Drive\, Lower South River\, NS\, Canada
CATEGORIES:YARDSALES
END:VEVENT
BEGIN:VEVENT
DTSTART;TZID=America/Halifax:20260426T120000
DTEND;TZID=America/Halifax:20260426T170000
DTSTAMP:20260423T132526
CREATED:20260414T120941Z
LAST-MODIFIED:20260414T120941Z
UID:173941-1777204800-1777222800@yourquadcounties.ca
SUMMARY:Beltrine Magick Market
DESCRIPTION:
URL:https://yourquadcounties.ca/event/beltrine-magick-market/
LOCATION:Hillsborough Hall\, 4738 Route 252\, NS\, Canada
ATTACH;FMTTYPE=image/png:https://yourquadcounties.ca/wp-content/uploads/2026/04/Beltaine-Majick-market.png
END:VEVENT
BEGIN:VEVENT
DTSTART;TZID=America/Halifax:20260426T140000
DTEND;TZID=America/Halifax:20260426T210000
DTSTAMP:20260423T132526
CREATED:20260421T114319Z
LAST-MODIFIED:20260421T114341Z
UID:174270-1777212000-1777237200@yourquadcounties.ca
SUMMARY:63 Card Game
DESCRIPTION:63 Card Game
URL:https://yourquadcounties.ca/event/63-card-game/
LOCATION:Glencoe Station Hall\, Glencoe\, NS\, Canada
ATTACH;FMTTYPE=image/png:https://yourquadcounties.ca/wp-content/uploads/2026/04/63-Card-game-in-Glendale.png
END:VEVENT
BEGIN:VEVENT
DTSTART;TZID=America/Halifax:20260429T100000
DTEND;TZID=America/Halifax:20260429T140000
DTSTAMP:20260423T132526
CREATED:20260408T124223Z
LAST-MODIFIED:20260408T124223Z
UID:173662-1777456800-1777471200@yourquadcounties.ca
SUMMARY:Pictou County Job Fair
DESCRIPTION:The Pictou County Spring Job Fair is back on Wednesday\, April 29\, 2026! Looking for your next career move? Connect with 50+ employers and service providers — all in one place! Drop by Summer Street in New Glasgow\, Wed.\, April 29th from 10:00am-2:00pm
URL:https://yourquadcounties.ca/event/pictou-county-job-fair/
ATTACH;FMTTYPE=image/png:https://yourquadcounties.ca/wp-content/uploads/2026/04/Pictou-County-Job-Fair.png
END:VEVENT
BEGIN:VEVENT
DTSTART;TZID=America/Halifax:20260430T180000
DTEND;TZID=America/Halifax:20260430T193000
DTSTAMP:20260423T132526
CREATED:20260407T132742Z
LAST-MODIFIED:20260407T132742Z
UID:173612-1777572000-1777577400@yourquadcounties.ca
SUMMARY:Nova Scotia Acadians film screenings
DESCRIPTION:Le Courrier de la Nouvelle-Écosse invites you to a series of film screenings exploring parts of Nova Scotia where Acadians settled—places you might not expect!\nIn the first of these two short documentaries\, our host\, comedian Ryan Doucette\, takes us to meet Acadians living in the Truro region.\nIn the second documentary\, our host Hughie Batherson takes us to meet Acadians living in the Sydney region.\nWhether you are from the regions featured and recognize familiar faces on screen\, or you are eager to learn more about your Acadian brothers and sisters across Nova Scotia\, we hope you will join us in discovering the lesser-known corners of Acadian Nova Scotia.\nOur screening in the Richmond region will take place at La Picasse Community Cultural Centre on April 30\, 2026\, from 6:00 p.m. to 7:30 p.m. Admission is free\, but seating is limited.\nPlease register by email at journaliste@lecourrier.com so we can ensure everyone has a seat! \nLe Courrier de la Nouvelle-Écosse vous invite à une série de projections explorant les coins de la Nouvelle-Écosse où les Acadiens se sont installés là où vous ne vous y attendiez pas !\nDans le premier de ces deux courts documentaires\, notre animateur\, l’humoriste Ryan Doucette\, nous emmènera à la rencontre des Acadiens installés dans la région de Truro.\nDans notre deuxième documentaire\, notre animateur Hughie Batherson nous emmènera à la rencontre des Acadiens installés dans la région de Sydney.\nQue vous soyez originaire des régions présentées et que vous voyiez des visages familiers à l’écran\, ou que vous en appreniez davantage sur vos frères et sœurs acadiens à travers la Nouvelle-Écosse\, nous espérons que vous viendrez découvrir les coins méconnus de l’Acadie néo-écossaise.\nNotre projection dans la région de Richmond aura lieu à La Picasse\, centre communautaire culturel le 30 avril 2026\, de 18h à 19h30. La participation est gratuite\, mais le nombre de places est limité. Veuillez donc vous inscrire par courriel à l’adresse journaliste@lecourrier.com afin que nous puissions nous assurer que tout le monde ait une place !
URL:https://yourquadcounties.ca/event/nova-scotia-acadians-film-screenings/
LOCATION:La Picasse\, 3435 NS-206\, Petit-de-Grat\, NS\, Canada
ATTACH;FMTTYPE=image/jpeg:https://yourquadcounties.ca/wp-content/uploads/2026/04/film-screenings.jpg
END:VEVENT
BEGIN:VEVENT
DTSTART;TZID=America/Halifax:20260501T163000
DTEND;TZID=America/Halifax:20260501T183000
DTSTAMP:20260423T132526
CREATED:20260410T151302Z
LAST-MODIFIED:20260410T151302Z
UID:173847-1777653000-1777660200@yourquadcounties.ca
SUMMARY:Roast Beef Dinner
DESCRIPTION:
URL:https://yourquadcounties.ca/event/roast-beef-dinner/
LOCATION:St Joseph Parish Hall\, Port Hawkesbury\, Canada
ATTACH;FMTTYPE=image/jpeg:https://yourquadcounties.ca/wp-content/uploads/2026/04/KOC-roast-beef-dinner-e1775833843177.jpg
END:VEVENT
BEGIN:VEVENT
DTSTART;TZID=America/Halifax:20260502T100000
DTEND;TZID=America/Halifax:20260502T130000
DTSTAMP:20260423T132526
CREATED:20260421T113242Z
LAST-MODIFIED:20260421T113242Z
UID:174258-1777716000-1777726800@yourquadcounties.ca
SUMMARY:Flea Market & BBQ
DESCRIPTION:Flea Market and BBQ with all proceeds going to the Seal Harbour United Baptist Church. \nEverything must go\, there will be Loonie and Toonie tables of items. No high priced items. Rain or Shine.
URL:https://yourquadcounties.ca/event/flea-market-bbq/
LOCATION:Seal Harbour United Bapist Church\, Seal Harbour\, NS\, Canada
ATTACH;FMTTYPE=image/jpeg:https://yourquadcounties.ca/wp-content/uploads/2026/04/Flea-Markey-and-BBQ-seal-harbour.jpg
END:VEVENT
BEGIN:VEVENT
DTSTART;TZID=America/Halifax:20260502T130000
DTEND;TZID=America/Halifax:20260502T150000
DTSTAMP:20260423T132526
CREATED:20260417T120517Z
LAST-MODIFIED:20260417T120517Z
UID:174138-1777726800-1777734000@yourquadcounties.ca
SUMMARY:ArtWorks East Presents: Driftwood Frame Building Workshop with Sandy Winter
DESCRIPTION:Join ArtWorks East for a hands-on creative workshop led by Sandy Winter. In this session\, participants will design and build a unique driftwood frame using natural coastal materials. \nAll participants will be provided with a blackboard sheet and driftwood to get started. Attendees are encouraged to bring a glue gun (a limited number will be available)\, as well as any beach treasures they’ve collected\, such as shells\, driftwood\, or other found objects\, to personalize their piece. \nLocation: Shamrock Club\, 60 Queen St\, Canso.\nDate & Time: May 2\, 2026 | 1:00 PM to 3:00 PM.\nCost: $10 registration fee\nFor Youth & Adults Ages 13+ \nTo register go to: https://artworkseast.ca/events/artworks-east-presents-driftwood-frame-building-workshop/ \nAll registration must be paid in advance using the link above. \nThis workshop is part of the ArtWorks East “Exploring Our Cultural Roots” series\, supported by the Nova Scotia Department of Culture\, Communities\, Tourism and Heritage.
URL:https://yourquadcounties.ca/event/artworks-east-presents-driftwood-frame-building-workshop-with-sandy-winter/
LOCATION:Shamrock Club\, Canso\, NS\, Canada
ATTACH;FMTTYPE=image/png:https://yourquadcounties.ca/wp-content/uploads/2026/04/ArtWorks-East-Presents-driftwood-with-sandy.png
END:VEVENT
BEGIN:VEVENT
DTSTART;TZID=America/Halifax:20260502T130000
DTEND;TZID=America/Halifax:20260502T190000
DTSTAMP:20260423T132526
CREATED:20260414T145254Z
LAST-MODIFIED:20260414T145254Z
UID:173984-1777726800-1777748400@yourquadcounties.ca
SUMMARY:Charity Crib Tournament
DESCRIPTION:This crib tournament will be held on May 2 @ 1:00pm at the Mabou Fire Hall. \n$20/team to play\, plus 50/50 and raffle draws.
URL:https://yourquadcounties.ca/event/charity-crib-tournament/
LOCATION:Mabou Fire Hall\, Mabou\, NS\, Canada
ATTACH;FMTTYPE=image/jpeg:https://yourquadcounties.ca/wp-content/uploads/2026/04/crib-tourney-in-Mabou.jpeg
END:VEVENT
BEGIN:VEVENT
DTSTART;TZID=America/Halifax:20260502T140000
DTEND;TZID=America/Halifax:20260502T160000
DTSTAMP:20260423T132526
CREATED:20260421T115252Z
LAST-MODIFIED:20260421T115252Z
UID:174274-1777730400-1777737600@yourquadcounties.ca
SUMMARY:Buth-obrach Orain Ghaidhlig (Gaelic Song Workshops)
DESCRIPTION:The first Gaelic Song Workshop for May 2026\, Gaelic Awareness Month\, will be held on Saturday\, May 2nd with Hannah Krebs teaching local Gaelic songs from 2-4pm at St. Barra Church & Christmas Island Communities Centre at 47 Church Road\, Christmas Island\, NS. Coffee\, tea\, and sweets will be served! \nAdmission by Donation! Sponsored by: The Wardens of the Church of St. Barra Preservation and Development Society & NSGA. Facebook: St. Barra’s Preservation and Development Society. Text: (902) 217-6659. Email: barryjgeorge1@gmail.com
URL:https://yourquadcounties.ca/event/buth-obrach-orain-ghaidhlig-gaelic-song-workshops/
LOCATION:St. Barra Church & Christmas Island Communities Centre\, Christmas Island\, NS\, Canada
ATTACH;FMTTYPE=image/jpeg:https://yourquadcounties.ca/wp-content/uploads/2026/04/Gaelic-Workshops-scaled.jpg
END:VEVENT
BEGIN:VEVENT
DTSTART;TZID=America/Halifax:20260502T150000
DTEND;TZID=America/Halifax:20260502T170000
DTSTAMP:20260423T132526
CREATED:20260408T180555Z
LAST-MODIFIED:20260408T181007Z
UID:173745-1777734000-1777741200@yourquadcounties.ca
SUMMARY:Teen board games afternoon at the Library
DESCRIPTION:
URL:https://yourquadcounties.ca/event/teen-board-games-afternoon-at-the-library-3/
LOCATION:ECRL Petit De Grat branch\, 3435 Hwy 206\, Petit-de-Grat
END:VEVENT
BEGIN:VEVENT
DTSTART;TZID=America/Halifax:20260502T193000
DTEND;TZID=America/Halifax:20260503T010000
DTSTAMP:20260423T132526
CREATED:20260421T114035Z
LAST-MODIFIED:20260421T114035Z
UID:174267-1777750200-1777770000@yourquadcounties.ca
SUMMARY:Sandy's Post Plow Party
DESCRIPTION:
URL:https://yourquadcounties.ca/event/sandys-post-plow-party/
LOCATION:Glendale Community Hall
ATTACH;FMTTYPE=image/jpeg:https://yourquadcounties.ca/wp-content/uploads/2026/04/Sandys-PostPlow-Party.jpeg
END:VEVENT
BEGIN:VEVENT
DTSTART;TZID=America/Halifax:20260503T140000
DTEND;TZID=America/Halifax:20260503T160000
DTSTAMP:20260423T132526
CREATED:20260422T122334Z
LAST-MODIFIED:20260422T122334Z
UID:174324-1777816800-1777824000@yourquadcounties.ca
SUMMARY:Celtic Spring Family Concert
DESCRIPTION:“Celtic Spring Family Concert” for Gaelic Awareness Month\, May 3\, 2026 featuring Local Talent at St. Barra Church & Christmas Island Communities Centre at 47 Church Road\, Christmas Island\, NS starting at 2 pm. Coffee\, tea\, & sweets will be served! Admission by Donation! Sponsored by: The Wardens of the Church of St. Barra Preservation and Development Society. Facebook: St. Barra’s Preservation and Development Society. Text: (902) 217-6659. Email: barryjgeorge1@gmail.com
URL:https://yourquadcounties.ca/event/celtic-spring-family-concert/
LOCATION:St. Barra Church & Christmas Island Communities Centre\, Christmas Island\, NS\, Canada
ATTACH;FMTTYPE=image/jpeg:https://yourquadcounties.ca/wp-content/uploads/2026/04/Celtic-Spring-Family-Concert-scaled.jpg
END:VEVENT
BEGIN:VEVENT
DTSTART;TZID=America/Halifax:20260503T140000
DTEND;TZID=America/Halifax:20260503T170000
DTSTAMP:20260423T132526
CREATED:20260421T113502Z
LAST-MODIFIED:20260421T113502Z
UID:174262-1777816800-1777827600@yourquadcounties.ca
SUMMARY:Merchandise Bingo
DESCRIPTION:
URL:https://yourquadcounties.ca/event/merchandise-bingo/
LOCATION:Louisdale Parish Hall\, Louisdale\, NS\, Canada
ATTACH;FMTTYPE=image/jpeg:https://yourquadcounties.ca/wp-content/uploads/2026/04/Merch-Bingo-Louisdale.jpg
END:VEVENT
BEGIN:VEVENT
DTSTART;TZID=America/Halifax:20260503T150000
DTEND;TZID=America/Halifax:20260503T160000
DTSTAMP:20260423T132526
CREATED:20260418T000953Z
LAST-MODIFIED:20260418T000953Z
UID:174189-1777820400-1777824000@yourquadcounties.ca
SUMMARY:Blessing of the fleet
DESCRIPTION:
URL:https://yourquadcounties.ca/event/blessing-of-the-fleet/
LOCATION:Bayfield Wharf
ATTACH;FMTTYPE=image/jpeg:https://yourquadcounties.ca/wp-content/uploads/2026/04/IMG_0909.jpeg
END:VEVENT
BEGIN:VEVENT
DTSTART;TZID=America/Halifax:20260507T190000
DTEND;TZID=America/Halifax:20260507T210000
DTSTAMP:20260423T132526
CREATED:20260406T125411Z
LAST-MODIFIED:20260406T125411Z
UID:173535-1778180400-1778187600@yourquadcounties.ca
SUMMARY:West Bay Reads
DESCRIPTION:
URL:https://yourquadcounties.ca/event/west-bay-reads/
LOCATION:West Bay Community Centre\, NS\, Canada
ATTACH;FMTTYPE=image/jpeg:https://yourquadcounties.ca/wp-content/uploads/2026/04/West-Bay-Reads-scaled.jpg
END:VEVENT
END:VCALENDAR